BEGIN:VCALENDAR
VERSION:2.0
PRODID:-//Bark Avenue Daycamp - ECPv6.15.20//NONSGML v1.0//EN
CALSCALE:GREGORIAN
METHOD:PUBLISH
X-ORIGINAL-URL:https://barkavenuedaycamp.com
X-WR-CALDESC:Events for Bark Avenue Daycamp
REFRESH-INTERVAL;VALUE=DURATION:PT1H
X-Robots-Tag:noindex
X-PUBLISHED-TTL:PT1H
BEGIN:VTIMEZONE
TZID:UTC
BEGIN:STANDARD
TZOFFSETFROM:+0000
TZOFFSETTO:+0000
TZNAME:UTC
DTSTART:20230101T000000
END:STANDARD
END:VTIMEZONE
BEGIN:VEVENT
DTSTART;TZID=UTC:20240328T193000
DTEND;TZID=UTC:20240328T203000
DTSTAMP:20260423T204946
CREATED:20240425T215006Z
LAST-MODIFIED:20240425T201135Z
UID:10000132-1711654200-1711657800@barkavenuedaycamp.com
SUMMARY:Intermediate Obedience (Lvl 2)
DESCRIPTION:Intermediate Obedience aims to develop more formal obedience skills by increasing duration and distance. We promote higher levels of response under increased distractions. \nRequirement: Completed Intermediate Obedience (Level I) or equivalent or have a trainer’s approval. \nA weekly class on Thursdays and Saturdays.
URL:https://barkavenuedaycamp.com/event/intermediate-obedience-lvl-2-2/2024-03-28/
LOCATION:Bark Avenue Daycamp\, 1540 Hecht Drive\, Bartlett\, IL\, 60103\, United States
CATEGORIES:Class
END:VEVENT
BEGIN:VEVENT
DTSTART;TZID=UTC:20240321T193000
DTEND;TZID=UTC:20240321T203000
DTSTAMP:20260423T204946
CREATED:20240425T215006Z
LAST-MODIFIED:20240425T201135Z
UID:10000131-1711049400-1711053000@barkavenuedaycamp.com
SUMMARY:Intermediate Obedience (Lvl 2)
DESCRIPTION:Intermediate Obedience aims to develop more formal obedience skills by increasing duration and distance. We promote higher levels of response under increased distractions. \nRequirement: Completed Intermediate Obedience (Level I) or equivalent or have a trainer’s approval. \nA weekly class on Thursdays and Saturdays.
URL:https://barkavenuedaycamp.com/event/intermediate-obedience-lvl-2-2/2024-03-21/
LOCATION:Bark Avenue Daycamp\, 1540 Hecht Drive\, Bartlett\, IL\, 60103\, United States
CATEGORIES:Class
END:VEVENT
BEGIN:VEVENT
DTSTART;TZID=UTC:20240314T193000
DTEND;TZID=UTC:20240314T203000
DTSTAMP:20260423T204946
CREATED:20240425T215006Z
LAST-MODIFIED:20240425T201135Z
UID:10000130-1710444600-1710448200@barkavenuedaycamp.com
SUMMARY:Intermediate Obedience (Lvl 2)
DESCRIPTION:Intermediate Obedience aims to develop more formal obedience skills by increasing duration and distance. We promote higher levels of response under increased distractions. \nRequirement: Completed Intermediate Obedience (Level I) or equivalent or have a trainer’s approval. \nA weekly class on Thursdays and Saturdays.
URL:https://barkavenuedaycamp.com/event/intermediate-obedience-lvl-2-2/2024-03-14/
LOCATION:Bark Avenue Daycamp\, 1540 Hecht Drive\, Bartlett\, IL\, 60103\, United States
CATEGORIES:Class
END:VEVENT
BEGIN:VEVENT
DTSTART;TZID=UTC:20240307T193000
DTEND;TZID=UTC:20240307T203000
DTSTAMP:20260423T204946
CREATED:20240425T215006Z
LAST-MODIFIED:20240425T201135Z
UID:10000129-1709839800-1709843400@barkavenuedaycamp.com
SUMMARY:Intermediate Obedience (Lvl 2)
DESCRIPTION:Intermediate Obedience aims to develop more formal obedience skills by increasing duration and distance. We promote higher levels of response under increased distractions. \nRequirement: Completed Intermediate Obedience (Level I) or equivalent or have a trainer’s approval. \nA weekly class on Thursdays and Saturdays.
URL:https://barkavenuedaycamp.com/event/intermediate-obedience-lvl-2-2/2024-03-07/
LOCATION:Bark Avenue Daycamp\, 1540 Hecht Drive\, Bartlett\, IL\, 60103\, United States
CATEGORIES:Class
END:VEVENT
BEGIN:VEVENT
DTSTART;TZID=UTC:20240229T193000
DTEND;TZID=UTC:20240229T203000
DTSTAMP:20260423T204946
CREATED:20240425T215006Z
LAST-MODIFIED:20240425T201135Z
UID:10000128-1709235000-1709238600@barkavenuedaycamp.com
SUMMARY:Intermediate Obedience (Lvl 2)
DESCRIPTION:Intermediate Obedience aims to develop more formal obedience skills by increasing duration and distance. We promote higher levels of response under increased distractions. \nRequirement: Completed Intermediate Obedience (Level I) or equivalent or have a trainer’s approval. \nA weekly class on Thursdays and Saturdays.
URL:https://barkavenuedaycamp.com/event/intermediate-obedience-lvl-2-2/2024-02-29/
LOCATION:Bark Avenue Daycamp\, 1540 Hecht Drive\, Bartlett\, IL\, 60103\, United States
CATEGORIES:Class
END:VEVENT
BEGIN:VEVENT
DTSTART;TZID=UTC:20240222T193000
DTEND;TZID=UTC:20240222T203000
DTSTAMP:20260423T204946
CREATED:20240425T215006Z
LAST-MODIFIED:20240425T201135Z
UID:10000127-1708630200-1708633800@barkavenuedaycamp.com
SUMMARY:Intermediate Obedience (Lvl 2)
DESCRIPTION:Intermediate Obedience aims to develop more formal obedience skills by increasing duration and distance. We promote higher levels of response under increased distractions. \nRequirement: Completed Intermediate Obedience (Level I) or equivalent or have a trainer’s approval. \nA weekly class on Thursdays and Saturdays.
URL:https://barkavenuedaycamp.com/event/intermediate-obedience-lvl-2-2/2024-02-22/
LOCATION:Bark Avenue Daycamp\, 1540 Hecht Drive\, Bartlett\, IL\, 60103\, United States
CATEGORIES:Class
END:VEVENT
BEGIN:VEVENT
DTSTART;TZID=UTC:20240215T193000
DTEND;TZID=UTC:20240215T203000
DTSTAMP:20260423T204946
CREATED:20240425T215006Z
LAST-MODIFIED:20240425T201135Z
UID:10000126-1708025400-1708029000@barkavenuedaycamp.com
SUMMARY:Intermediate Obedience (Lvl 2)
DESCRIPTION:Intermediate Obedience aims to develop more formal obedience skills by increasing duration and distance. We promote higher levels of response under increased distractions. \nRequirement: Completed Intermediate Obedience (Level I) or equivalent or have a trainer’s approval. \nA weekly class on Thursdays and Saturdays.
URL:https://barkavenuedaycamp.com/event/intermediate-obedience-lvl-2-2/2024-02-15/
LOCATION:Bark Avenue Daycamp\, 1540 Hecht Drive\, Bartlett\, IL\, 60103\, United States
CATEGORIES:Class
END:VEVENT
BEGIN:VEVENT
DTSTART;TZID=UTC:20240208T193000
DTEND;TZID=UTC:20240208T203000
DTSTAMP:20260423T204946
CREATED:20240425T215006Z
LAST-MODIFIED:20240425T201135Z
UID:10000125-1707420600-1707424200@barkavenuedaycamp.com
SUMMARY:Intermediate Obedience (Lvl 2)
DESCRIPTION:Intermediate Obedience aims to develop more formal obedience skills by increasing duration and distance. We promote higher levels of response under increased distractions. \nRequirement: Completed Intermediate Obedience (Level I) or equivalent or have a trainer’s approval. \nA weekly class on Thursdays and Saturdays.
URL:https://barkavenuedaycamp.com/event/intermediate-obedience-lvl-2-2/2024-02-08/
LOCATION:Bark Avenue Daycamp\, 1540 Hecht Drive\, Bartlett\, IL\, 60103\, United States
CATEGORIES:Class
END:VEVENT
END:VCALENDAR