BEGIN:VCALENDAR
VERSION:2.0
PRODID:-//Bark Avenue Daycamp - ECPv6.15.20//NONSGML v1.0//EN
CALSCALE:GREGORIAN
METHOD:PUBLISH
X-ORIGINAL-URL:https://barkavenuedaycamp.com
X-WR-CALDESC:Events for Bark Avenue Daycamp
REFRESH-INTERVAL;VALUE=DURATION:PT1H
X-Robots-Tag:noindex
X-PUBLISHED-TTL:PT1H
BEGIN:VTIMEZONE
TZID:UTC
BEGIN:STANDARD
TZOFFSETFROM:+0000
TZOFFSETTO:+0000
TZNAME:UTC
DTSTART:20240101T000000
END:STANDARD
END:VTIMEZONE
BEGIN:VEVENT
DTSTART;TZID=UTC:20251011T100000
DTEND;TZID=UTC:20251011T104500
DTSTAMP:20260425T183641
CREATED:20260425T010541Z
LAST-MODIFIED:20260425T180512Z
UID:10001287-1760176800-1760179500@barkavenuedaycamp.com
SUMMARY:Basic Obedience (Lvl 1)
DESCRIPTION:Let’s start with teamwork and the basics… “sit”\, “down” and learning not to pull on leash are among the popular commands. The goal of this class is to lay the groundwork for training\, including discussions on training tools and techniques. This class builds on the prior week’s topics and discussion of ways to manage and eliminate unwanted behavior. We encourage all our fur’ends to bring training treats to class! \nThis class is great for new pet-parents or your four-legged family member who needs to brush up on their manners. \nVisit our TRAINING page to sign up.
URL:https://barkavenuedaycamp.com/event/basic-obedience-lvl-1-5/2025-10-11/
LOCATION:Bark Avenue Daycamp\, 1540 Hecht Drive\, Bartlett\, IL\, 60103\, United States
CATEGORIES:Class
ATTACH;FMTTYPE=image/jpeg:https://barkavenuedaycamp.com/wp-content/uploads/2022/11/basic-1.jpg
END:VEVENT
BEGIN:VEVENT
DTSTART;TZID=UTC:20251011T104500
DTEND;TZID=UTC:20251011T111500
DTSTAMP:20260425T183641
CREATED:20260425T010314Z
LAST-MODIFIED:20260425T180337Z
UID:10001283-1760179500-1760181300@barkavenuedaycamp.com
SUMMARY:Puppy Pre-School
DESCRIPTION:Start your puppy off on the right paw and learn how to succeed with your new furry family member! Establish a strong relationship with your puppy during their development. Learn how to communicate and build confidence\, while exposing your puppy to new sights\, sounds and textures. \nTopics of discussion will include potty training\, crate training\, chewing/teething\, feeding\, socialization and more. \nWe encourage all our fur’ends to bring training treats to class! \nVisit our TRAINING page to sign up.
URL:https://barkavenuedaycamp.com/event/puppy-pre-school/2025-10-11/
LOCATION:Bark Avenue Daycamp\, 1540 Hecht Drive\, Bartlett\, IL\, 60103\, United States
CATEGORIES:Class
ATTACH;FMTTYPE=image/jpeg:https://barkavenuedaycamp.com/wp-content/uploads/2022/08/puppy-preschool.jpg
END:VEVENT
BEGIN:VEVENT
DTSTART;TZID=UTC:20251011T111500
DTEND;TZID=UTC:20251011T120000
DTSTAMP:20260425T183641
CREATED:20260425T010204Z
LAST-MODIFIED:20260425T180218Z
UID:10001279-1760181300-1760184000@barkavenuedaycamp.com
SUMMARY:Basic Obedience (Lvl 2)
DESCRIPTION:This class builds on the skills learned in Basic Obedience (Level 1). Increase your dog’s focus\, duration\, and continue to improve their training skills. Your dog will learn to run to their “place” and stay\, “heel” and walk nicely on a loose leash\, as well as “come” when called. \nVisit our TRAINING page to sign up.
URL:https://barkavenuedaycamp.com/event/basic-obedience-lvl-2-4/2025-10-11/
LOCATION:Bark Avenue Daycamp\, 1540 Hecht Drive\, Bartlett\, IL\, 60103\, United States
CATEGORIES:Class
ATTACH;FMTTYPE=image/jpeg:https://barkavenuedaycamp.com/wp-content/uploads/2022/11/313898572_507786394694718_1084762844811195242_n.jpg
END:VEVENT
BEGIN:VEVENT
DTSTART;TZID=UTC:20251011T130000
DTEND;TZID=UTC:20251011T134500
DTSTAMP:20260425T183641
CREATED:20260425T125910Z
LAST-MODIFIED:20260425T175918Z
UID:10001275-1760187600-1760190300@barkavenuedaycamp.com
SUMMARY:Intermediate Obedience (Lvl 1)
DESCRIPTION:Now that your dog has completed basic obedience\, let’s take it to the next level. Your dog will learn to increase their reliability\, consistency\, and response time. This class will incorporate more advanced techniques and distractions. \nRequirement: Completed Basic Obedience (Level II) or equivalent or have a trainer’s approval. \nA weekly class on Wednesdays and Saturdays.
URL:https://barkavenuedaycamp.com/event/intermediate-obedience-lvl-1-4/2025-10-11/
LOCATION:Bark Avenue Daycamp\, 1540 Hecht Drive\, Bartlett\, IL\, 60103\, United States
CATEGORIES:Class
ATTACH;FMTTYPE=image/jpeg:https://barkavenuedaycamp.com/wp-content/uploads/2022/11/int1-scaled-1.jpg
END:VEVENT
BEGIN:VEVENT
DTSTART;TZID=UTC:20251011T134500
DTEND;TZID=UTC:20251011T143000
DTSTAMP:20260425T183641
CREATED:20260425T125712Z
LAST-MODIFIED:20260425T175752Z
UID:10001271-1760190300-1760193000@barkavenuedaycamp.com
SUMMARY:Intermediate Obedience (Lvl 2)
DESCRIPTION:Intermediate Obedience aims to develop more formal obedience skills by increasing duration and distance. We promote higher levels of response under increased distractions. \nRequirement: Completed Intermediate Obedience (Level I) or equivalent or have a trainer’s approval. \nA weekly class on Thursdays and Saturdays.
URL:https://barkavenuedaycamp.com/event/intermediate-obedience-lvl-2-4/2025-10-11/
LOCATION:Bark Avenue Daycamp\, 1540 Hecht Drive\, Bartlett\, IL\, 60103\, United States
CATEGORIES:Class
ATTACH;FMTTYPE=image/jpeg:https://barkavenuedaycamp.com/wp-content/uploads/2022/11/int2.jpg
END:VEVENT
END:VCALENDAR